Workbook

Sheet Лист1
A1: РЕЗУЛЬТАТЫ
A2: независимой оценки качества оказания услуг
A3: Муниципальное автономное учреждение культуры «Балашовский драматический театр»
A4: (полное наименование организации)
A6: № п\п | B6: Показатели | C6: Значимость показателей | D6: Группы организации | E6: Способ оценки | F6: Факт оценки в баллах (100) | G6: Доля респондентов | H6: Факт оценки с учетом значимости | I6: Приме-чание
A7: 1. | B7: Открытость и доступность информации об организации
A8: 1.1. | B8: Соответствие информации о деятельности организации, размещенной на общедоступных информационных ресурсах, перечню информации и требованиям к ней, установленным нормативными правовыми актами | C8: 30 | D8: все организации | E8: Анализ сайта, посещение организации | F8: =SUM(F9,F10)/2 -> 100 | H8: =F9*0.3 -> 30
A9: 1.1.1. | B9: на информационных стендах в помещении организации | C9: 9 | D9: все организации | E9: Посещение организации, наблюдение, опрос | F9: =H9/C9*100 -> 100 | H9: 9
A10: 1.1.2. | B10: на официальном сайте организации в информационно-телекоммуникационной сети "Интернет" | C10: 13 | D10: все организации | E10: наличие на сайте организации | F10: =H10*100/C10 -> 100 | H10: 13
A11: 1.2. | B11: Обеспечение на официальном сайте организации наличия и функционирования дистанционных способов обратной связи и взаимодействия с получателями услуг: - абонентского номера телефона; - адрес электронной почты; - электронных сервисов (для подачи электронного обращения (жалобы, предложения), получения консультации по оказываемым услугам и иных); - раздела официального сайта «Часто задаваемые вопросы»; - технической возможности выражения получателем услуг мнения о качестве условий оказания услуг организацией социальной сферы (наличие анкеты для опроса граждан или гиперссылки на нее); - иного дистанционного способа взаимодействия. | C11: 30 | D11: все организации | E11: Анализ сайта | F11: 100 | H11: 30
A12: 1.3. | B12: Доля получателей услуг, удовлетворенных открытостью, полнотой и доступностью информации о деятельности организации, размещенной на информационных стендах, на сайте в информационно-телекоммуникационной сети "Интернет" (в % от общего числа опрошенных получателей услуг) | C12: 40 | D12: все организации | E12: Опрос | F12: =(F13+F14)/2 -> 99.15 | H12: =F12*0.4 -> 39.66
A13: 1.3.1. | B13: Удовлетворенность качеством, полнотой и доступностью информации о деятельности организации, размещенной на иформационных стендах в помещении организации | C13: 20 | D13: все организации | E13: Опрос | F13: =Лист2!C2 -> 100 | G13: =Лист2!C3 -> 550 | H13: =F13*0.2 -> 20
A14: 1.3.2. | B14: Удовлетворенность качеством, полнотой и доступностью информации о деятельности организации, размещенной на официальном сайте организации в сети "Интернет" | C14: 20 | D14: все организации | E14: Опрос | F14: =Лист2!E2 -> 98.3 | G14: =Лист2!E3 -> 535 | H14: =F14*0.2 -> 19.66
A15: Итого по критерию 1 | C15: 100 | F15: =H15 -> 99.66 | H15: =SUM(H12,H11,H8) -> 99.66
B16: Доступность услуг для инвалидов
A17: 3.1. | B17: Оборудование территории, прилегающей к организации, и ее помещений с учетом доступности для инвалидов: | C17: 30 | D17: все организации | E17: Посещение организации, наблюдение, опрос | F17: =H17*100/C17 -> 100 | H17: =SUM(H18:H22) -> 30
A18: 3.1.1. | B18: - оборудование входных групп пандусами/подъемными платформами; | C18: 6 | D18: — // — | E18: — // — | H18: 6
A19: 3.1.2. | B19: - наличие выделенных стоянок для автотранспортных средств инвалидов; | C19: 6 | D19: — // — | E19: — // — | H19: 6
A20: 3.1.3. | B20: - наличие адаптированных лифтов, поручней, расширенных дверных проемов; | C20: 6 | D20: — // — | E20: — // — // —— | H20: 6
A21: 3.1.4. | B21: - наличие сменных кресел-колясок; | C21: 6 | D21: — // — | E21: — // — | H21: 6
A22: 3.1.5. | B22: - наличие специально оборудованных санитарно-гигиенических помещений в организации | C22: 6 | D22: — // — | E22: — // — | H22: 6
A23: 3.2. | B23: Обеспечение в организации условий доступности, позволяющих инвалидам получать услуги наравне с другими, включая: - дублирование для инвалидов по слуху и зрению звуковой и зрительной информации; - дублирование надписей, знаков и иной текстовой и графической информации знаками, выполненными рельефно-точечным шрифтом Брайля; - возможность предоставления инвалидам по слуху (слуху и зрению) услуг сурдопереводчика (тифлосурдопереводчика); - наличие альтернативной версии официального сайта организации социальной сферы в сети «Интернет» для инвалидов по зрению; - помощь, оказываемая работниками организации социальной сферы, прошедшими необходимое обучение (инструктирование) по сопровождению инвалидов в помещениях организации социальной сферы и на прилегающей территории; - наличие возможности предоставления услуги в дистанционном режиме или на дому. | C23: 40 | D23: все организации | E23: Посещение организации, наблюдение, опрос | F23: 100 | H23: =F23*0.4 -> 40
A24: 3.3. | B24: Доля получателей услуг, удовлетворенных доступностью услуг для инвалидов (в % от общего числа опрошенных получателей услуг - инвалидов) | C24: 30 | D24: все организации | E24: Анкетирование, опрос | F24: =Лист2!H2 -> 100 | G24: =Лист2!H3 -> 138 | H24: =F24*0.3 -> 30
A25: Итого по критерию 3 | C25: 100 | F25: =H25 -> 100 | H25: =H24+H23+H17 -> 100
A26: ВСЕГО по организации: | E26: =SUM(H25,H15)/2 -> 99.83

Sheet Лист2
A1: Отметка времени | B1: При посещении организации Вы обращались к информации, размещенной на информационных стендах в помещениях организации? | C1: Удовлетворены ли Вы открытостью, полнотой и доступностью информации о деятельности организации, размещенной на информационных стендах в помещении организации? | D1: Пользовались ли Вы официальным сайтом организации, чтобы получить информацию о ее деятельности? | E1: Удовлетворены ли Вы открытостью, полнотой и доступностью информации о деятельности организации, размещенной на ее официальном сайте в информационно-телекоммуникационной сети «Интернет»? | F1: Удовлетворены ли Вы комфортностью условий предоставления услуг в организации (наличие комфортной зоны отдыха (ожидания); наличие и понятность навигации в помещении организации; наличие и доступность питьевой воды в помещении организации; наличие и доступность санитарно-гигиенических помещений в организации; удовлетворительное санитарное состояние помещений организации; транспортная доступность организации (наличие общественного транспорта, парковки); доступность записи на получение услуги (по телефону, на официальном сайте организации, посредством Единого портала государственных и муниципальных услуг, при личном посещении у специалиста организации) и прочие условия)? | G1: Имеете ли Вы (или лицо, представителем которого Вы являетесь) установленную группу инвалидности? | H1: Удовлетворены ли Вы доступностью предоставления услуг для инвалидов в организации? | I1: Удовлетворены ли Вы доброжелательностью и вежливостью работников организации, обеспечивающих первичный контакт с посетителями и информирование об услугах при непосредственном обращении в организацию (директор, заместители директора, представители службы безопасности на входе в организацию, секретарь и прочие работники)? | J1: Удовлетворены ли Вы доброжелательностью и вежливостью работников организации, обеспечивающих непосредственное оказание услуги при обращении в организацию (тренеры, медицинские работники и прочие работники)? | K1: Пользовались ли Вы какими-либо дистанционными способами взаимодействия с организацией (телефон, электронная почта, электронный сервис (форма для подачи электронного обращения (жалобы, предложения), получение консультации по оказываемым услугам), раздел «Часто задаваемые вопросы», анкета для опроса граждан на сайте и прочие)? | L1: Удовлетворены ли Вы доброжелательностью и вежливостью работников организации, с которыми взаимодействовали в дистанционной форме (по телефону, по электронной почте, с помощью электронных сервисов (для подачи электронного обращения (жалобы, предложения), получения консультации по оказываемым услугам) и в прочих дистанционных формах)? | M1: Готовы ли Вы рекомендовать данную организацию своим знакомым в случае выбора? | N1: Удовлетворены ли Вы организационными условиями предоставления услуг (графиком работы организации (отдельных специалистов); навигацией внутри организации (наличие информационных табличек, указателей, сигнальных табло, инфоматов и прочие)? | O1: Удовлетворены ли Вы в целом условиями оказания услуг в организации? | P1: М | Q1: Ж | R1: м20 | S1: 21-40 | T1: 41-60 | U1: с60
A2: 600 | B2: 91.7 | C2: 100 | D2: 90.7 | E2: 98.3 | F2: 100 | G2: 99.3 | H2: 100 | I2: 0 | J2: 0 | K2: 0 | L2: 0 | M2: 0 | N2: 0 | O2: 0 | P2: 30,7 | Q2: 69,3 | R2: 10,8 | S2: 24,2 | T2: 56,5 | U2: 8,5
B3: 550 | C3: 550 | D3: 544 | E3: 535 | F3: 138 | G3: 137 | H3: 138 | I3: 0 | J3: 0 | K3: 0 | L3: 0 | M3: 0 | N3: 0 | O3: 0
